BEGIN:VCALENDAR
VERSION:2.0
PRODID:KKTIX
CALSCALE:GREGORIAN
METHOD:PUBLISH
BEGIN:VTIMEZONE
TZID:Asia/Taipei
END:VTIMEZONE
BEGIN:VEVENT
DTSTAMP:20260424T161201Z
UID:f2eaaac4-73d4-4792-8dc5-926d3197f2c3
DTSTART:20141122T010000Z
DTEND:20141122T040000Z
CLASS:PUBLIC
DESCRIPTION:https://tcfshcs.kktix.cc/events/seminar8
LOCATION: (台中市育才街2號) 國立台中一中慎思樓7F電腦教
 室(二)
SUMMARY:國立台中一中特色領航資訊素養研習，專題講座(八
 )：如何做好資訊專題研究
END:VEVENT
END:VCALENDAR
