BEGIN:VCALENDAR
VERSION:2.0
PRODID:KKTIX
CALSCALE:GREGORIAN
METHOD:PUBLISH
BEGIN:VTIMEZONE
TZID:Asia/Taipei
END:VTIMEZONE
BEGIN:VEVENT
DTSTAMP:20260424T190840Z
UID:7625f3db-2a72-4dfb-88d5-9aa4d9c5ffd8
DTSTART:20141115T010000Z
DTEND:20141115T040000Z
CLASS:PUBLIC
DESCRIPTION:https://tcfshcs.kktix.cc/events/seminar7
LOCATION: (台中市育才街2號) 國立台中一中慎思樓7F電腦教
 室(二)
SUMMARY:國立台中一中特色領航資訊素養研習，專題講座(七
 )：LEGO NXT機器人 3D模擬軟體於程式設計教學
END:VEVENT
END:VCALENDAR
