BEGIN:VCALENDAR
VERSION:2.0
PRODID:KKTIX
CALSCALE:GREGORIAN
METHOD:PUBLISH
BEGIN:VTIMEZONE
TZID:Asia/Taipei
END:VTIMEZONE
BEGIN:VEVENT
DTSTAMP:20260424T190840Z
UID:eda2f7bd-34ea-4cdf-b2de-a54664833744
DTSTART:20141028T071000Z
DTEND:20141028T090000Z
CLASS:PUBLIC
DESCRIPTION:https://tcfshcs.kktix.cc/events/seminar5
LOCATION: (台中市育才街2號) 國立台中一中慎思樓7F電腦教
 室(二)
SUMMARY:國立台中一中特色領航資訊素養研習，專題講座(五
 )：Android系統操作與簡介(配合選修課)
END:VEVENT
END:VCALENDAR
