BEGIN:VCALENDAR
VERSION:2.0
PRODID:KKTIX
CALSCALE:GREGORIAN
METHOD:PUBLISH
BEGIN:VTIMEZONE
TZID:Asia/Taipei
END:VTIMEZONE
BEGIN:VEVENT
DTSTAMP:20260424T190842Z
UID:2cba9ed6-e9c0-4637-b5fe-6b5ddb01da61
DTSTART:20141004T010000Z
DTEND:20141004T040000Z
CLASS:PUBLIC
DESCRIPTION:https://tcfshcs.kktix.cc/events/seminar3
LOCATION: (台中市育才街2號) 國立台中一中慎思樓7F電腦教
 室(二)
SUMMARY:國立台中一中特色領航資訊素養研習，專題講座(三
 )：一窺Greenfoot的世界
END:VEVENT
END:VCALENDAR
