BEGIN:VCALENDAR
VERSION:2.0
PRODID:KKTIX
CALSCALE:GREGORIAN
METHOD:PUBLISH
BEGIN:VTIMEZONE
TZID:Asia/Taipei
END:VTIMEZONE
BEGIN:VEVENT
DTSTAMP:20260424T190841Z
UID:be62313d-ff56-4d8a-a594-c81a0d4a0c5f
DTSTART:20140920T010000Z
DTEND:20140920T040000Z
CLASS:PUBLIC
DESCRIPTION:https://tcfshcs.kktix.cc/events/seminar2
LOCATION: (台中市育才街2號) 國立台中一中慎思樓7F電腦教
 室(二)
SUMMARY:國立台中一中特色領航資訊素養研習，專題講座(二
 )：如何設計Android手機APP
END:VEVENT
END:VCALENDAR
