BEGIN:VCALENDAR
VERSION:2.0
PRODID:KKTIX
CALSCALE:GREGORIAN
METHOD:PUBLISH
BEGIN:VTIMEZONE
TZID:Asia/Taipei
END:VTIMEZONE
BEGIN:VEVENT
DTSTAMP:20260424T190849Z
UID:fa2247ab-0c8f-47f5-b0c8-2beb5e7c8f9c
DTSTART:20140913T010000Z
DTEND:20140913T040000Z
CLASS:PUBLIC
DESCRIPTION:https://tcfshcs.kktix.cc/events/seminar1
LOCATION: (台中市育才街2號) 國立台中一中慎思樓7F電腦教
 室(二)
SUMMARY:國立台中一中特色領航資訊素養研習，專題講座(一
 )：電腦科學史與電腦科學教育(因故延期或取消)
END:VEVENT
END:VCALENDAR
